BEGIN:VCALENDAR
VERSION:2.0
PRODID:-//Reflections - ECPv6.9.0//NONSGML v1.0//EN
CALSCALE:GREGORIAN
METHOD:PUBLISH
X-WR-CALNAME:Reflections
X-ORIGINAL-URL:https://reflectionsmediacommunications.com
X-WR-CALDESC:Events for Reflections
REFRESH-INTERVAL;VALUE=DURATION:PT1H
X-Robots-Tag:noindex
X-PUBLISHED-TTL:PT1H
BEGIN:VTIMEZONE
TZID:America/New_York
BEGIN:DAYLIGHT
TZOFFSETFROM:-0500
TZOFFSETTO:-0400
TZNAME:EDT
DTSTART:20190310T070000
END:DAYLIGHT
BEGIN:STANDARD
TZOFFSETFROM:-0400
TZOFFSETTO:-0500
TZNAME:EST
DTSTART:20191103T060000
END:STANDARD
END:VTIMEZONE
BEGIN:VEVENT
DTSTART;TZID=America/New_York:20190726T203000
DTEND;TZID=America/New_York:20190726T213000
DTSTAMP:20260419T105403
CREATED:20190722T145628Z
LAST-MODIFIED:20190722T145628Z
UID:4393-1564173000-1564176600@reflectionsmediacommunications.com
SUMMARY:S'mores N' More - Campfire Tales
DESCRIPTION:Come join a park ranger at the lake amphitheater for a yummy s’mores campfire and then\, once it’s dark we’ll take turns telling spooky or funny campfire stories. It’s a great way to meet fellow campers and enjoy the serene Magnolia Lake. Weather dependent event. $2 plus $5 parking. 478-982-1660.
URL:https://reflectionsmediacommunications.com/event/smores-n-more-campfire-tales/
LOCATION:Magnolia Springs State Park\, 1053 Magnolia Springs Rd\, Millen\, GA\, 30442
GEO:32.8759457;-81.9583558
X-APPLE-STRUCTURED-LOCATION;VALUE=URI;X-ADDRESS=Magnolia Springs State Park 1053 Magnolia Springs Rd Millen GA 30442;X-APPLE-RADIUS=500;X-TITLE=1053 Magnolia Springs Rd:geo:-81.9583558,32.8759457
END:VEVENT
END:VCALENDAR