BEGIN:VCALENDAR
VERSION:2.0
PRODID:-//Reflections - ECPv6.9.0//NONSGML v1.0//EN
CALSCALE:GREGORIAN
METHOD:PUBLISH
X-WR-CALNAME:Reflections
X-ORIGINAL-URL:https://reflectionsmediacommunications.com
X-WR-CALDESC:Events for Reflections
REFRESH-INTERVAL;VALUE=DURATION:PT1H
X-Robots-Tag:noindex
X-PUBLISHED-TTL:PT1H
BEGIN:VTIMEZONE
TZID:America/New_York
BEGIN:DAYLIGHT
TZOFFSETFROM:-0500
TZOFFSETTO:-0400
TZNAME:EDT
DTSTART:20190310T070000
END:DAYLIGHT
BEGIN:STANDARD
TZOFFSETFROM:-0400
TZOFFSETTO:-0500
TZNAME:EST
DTSTART:20191103T060000
END:STANDARD
END:VTIMEZONE
BEGIN:VEVENT
DTSTART;TZID=America/New_York:20190615T180000
DTEND;TZID=America/New_York:20190615T180000
DTSTAMP:20260419T104446
CREATED:20190605T132744Z
LAST-MODIFIED:20190605T132744Z
UID:4030-1560621600-1560621600@reflectionsmediacommunications.com
SUMMARY:GRAND OPENING - The Wild Horse Salon
DESCRIPTION:The Wild Horse Salon’s grand opening is set for June 15th at 6:00 PM. They will have light snacks and drinks. Looking forward to seeing you there!
URL:https://reflectionsmediacommunications.com/event/grand-opening-the-wild-horse-salon/
LOCATION:The Wild Horse Salon\, 9701 Ford Avenue\, Suite E\, Richmond Hill\, GA\, 31401\, United States
GEO:31.9534248;-81.31295
X-APPLE-STRUCTURED-LOCATION;VALUE=URI;X-ADDRESS=The Wild Horse Salon 9701 Ford Avenue Suite E Richmond Hill GA 31401 United States;X-APPLE-RADIUS=500;X-TITLE=9701 Ford Avenue\, Suite E:geo:-81.31295,31.9534248
END:VEVENT
END:VCALENDAR